BEGIN:VCALENDAR
VERSION:2.0
PRODID:-//Run Nation Championship - ECPv6.15.10//NONSGML v1.0//EN
CALSCALE:GREGORIAN
METHOD:PUBLISH
X-WR-CALNAME:Run Nation Championship
X-ORIGINAL-URL:https://runnationchampionship.com
X-WR-CALDESC:Events for Run Nation Championship
REFRESH-INTERVAL;VALUE=DURATION:PT1H
X-Robots-Tag:noindex
X-PUBLISHED-TTL:PT1H
BEGIN:VTIMEZONE
TZID:UTC
BEGIN:STANDARD
TZOFFSETFROM:+0000
TZOFFSETTO:+0000
TZNAME:UTC
DTSTART:20240101T000000
END:STANDARD
END:VTIMEZONE
BEGIN:VEVENT
DTSTART;TZID=UTC:20260207T190000
DTEND;TZID=UTC:20260207T220000
DTSTAMP:20260423T085105
CREATED:20200428T032125Z
LAST-MODIFIED:20260302T225442Z
UID:1194-1770490800-1770501600@runnationchampionship.com
SUMMARY:RNC 02
DESCRIPTION:After the thrill of the inaugural Run Nation Championship event\, the excitement continues with RNC 02\, set to take place on 7 February 2026 in Sydney. This next chapter promises to bring even more pulse-racing action to fans of this unique collision sport that blends pure athleticism with competitive drama. \nRNC 02 will spotlight a fresh slate of athletes ready to push their limits and captivate audiences with fierce matchups. While the official roster is still being finalised\, what we can expect is high energy\, strategy and intense competition that keeps viewers on the edge of their seats. \nWhether you experienced RNC 01 live or are just hearing about Run Nation Championship now\, this event is shaping up to be a standout moment early in 2026. It is about heart\, power and the shared thrill of sport in its rawest form. \nMark your calendars for 7 February and get ready for a spectacular return to the arena as RNC continues to build its legacy.
URL:https://runnationchampionship.com/event/rnc-02/
CATEGORIES:Run Nation Champ
ATTACH;FMTTYPE=image/png:https://runnationchampionship.com/wp-content/uploads/2020/04/rnc02.png
END:VEVENT
BEGIN:VEVENT
DTSTART;TZID=UTC:20251201T190000
DTEND;TZID=UTC:20260205T220000
DTSTAMP:20260423T085105
CREATED:20200428T040523Z
LAST-MODIFIED:20260302T225354Z
UID:1215-1764615600-1770328800@runnationchampionship.com
SUMMARY:RNC 02 - Combine
DESCRIPTION:The RNC Combine is where the journey to RNC 02 begins. This high-intensity training and testing event brings together aspiring athletes who want to prove they have what it takes to compete on the Run Nation Championship stage. Across a series of physical tests\, performance drills and competitive challenges\, athletes are assessed on speed\, endurance\, power and overall athletic capability. \nMore than just a trial\, the RNC Combine is an immersive experience that reflects the demands of championship competition. It is where potential is measured\, resilience is tested and standout performers earn their opportunity to be selected for RNC 02. For athletes serious about stepping into the arena\, this is the proving ground.
URL:https://runnationchampionship.com/event/rnc-02-combine/
ATTACH;FMTTYPE=image/png:https://runnationchampionship.com/wp-content/uploads/2020/04/rnc-combine.png
END:VEVENT
BEGIN:VEVENT
DTSTART;TZID=UTC:20251117T190000
DTEND;TZID=UTC:20251117T210000
DTSTAMP:20260423T085105
CREATED:20200428T032928Z
LAST-MODIFIED:20260111T213608Z
UID:1202-1763406000-1763413200@runnationchampionship.com
SUMMARY:RNC 01
DESCRIPTION:The world’s fastest-growing collision sport is about to make its mark with RNC 01\, the first major event in the Run Nation Championship series\, taking place on 17 November in Sydney. This event introduces a bold new chapter in athletic competition that blends the endurance of running with high-impact competitive matchups\, crafted for fans and athletes alike. \nThe RNC isn’t your usual race. It’s designed as a live sporting spectacle where power\, speed and strategy collide. Fans can expect explosive pairings\, rapid contests and top-tier athlete performances that push the limits of what a running-based sport can offer. Whether you’re a die-hard competitor or new to the world of RNC\, the atmosphere is built to thrill. \nAthletes featured on the event’s lineup include exciting names like Atini Gafa\, Matt Groat\, Trent Mailei\, Jack Cowmeadow\, Lochlan Piper and Deirdre Fangupo\, all set to bring intensity to the arena. Their clashes aren’t just races; they are competitive showcases where skill and resilience are tested under bright lights. \nRNC 01 promises not just sport\, but raw energy and unforgettable matchups that will set the tone for the future of this burgeoning championship. Whether you’re cheering from the stands or following online\, this is one date in November that’s shaping up to be unmissable.
URL:https://runnationchampionship.com/event/rnc-01/
ATTACH;FMTTYPE=image/png:https://runnationchampionship.com/wp-content/uploads/2020/04/rnc01.png
END:VEVENT
END:VCALENDAR