BEGIN:VCALENDAR
VERSION:2.0
PRODID:-//Run Nation Championship - ECPv6.15.10//NONSGML v1.0//EN
CALSCALE:GREGORIAN
METHOD:PUBLISH
X-WR-CALNAME:Run Nation Championship
X-ORIGINAL-URL:https://runnationchampionship.com
X-WR-CALDESC:Events for Run Nation Championship
REFRESH-INTERVAL;VALUE=DURATION:PT1H
X-Robots-Tag:noindex
X-PUBLISHED-TTL:PT1H
BEGIN:VTIMEZONE
TZID:UTC
BEGIN:STANDARD
TZOFFSETFROM:+0000
TZOFFSETTO:+0000
TZNAME:UTC
DTSTART:20240101T000000
END:STANDARD
END:VTIMEZONE
BEGIN:VEVENT
DTSTART;TZID=UTC:20251201T190000
DTEND;TZID=UTC:20260205T220000
DTSTAMP:20260425T233053
CREATED:20200428T040523Z
LAST-MODIFIED:20260302T225354Z
UID:1215-1764615600-1770328800@runnationchampionship.com
SUMMARY:RNC 02 - Combine
DESCRIPTION:The RNC Combine is where the journey to RNC 02 begins. This high-intensity training and testing event brings together aspiring athletes who want to prove they have what it takes to compete on the Run Nation Championship stage. Across a series of physical tests\, performance drills and competitive challenges\, athletes are assessed on speed\, endurance\, power and overall athletic capability. \nMore than just a trial\, the RNC Combine is an immersive experience that reflects the demands of championship competition. It is where potential is measured\, resilience is tested and standout performers earn their opportunity to be selected for RNC 02. For athletes serious about stepping into the arena\, this is the proving ground.
URL:https://runnationchampionship.com/event/rnc-02-combine/
ATTACH;FMTTYPE=image/png:https://runnationchampionship.com/wp-content/uploads/2020/04/rnc-combine.png
END:VEVENT
END:VCALENDAR